BEGIN:VCALENDAR
VERSION:2.0
PRODID:-//The Wellness Coalition - ECPv6.15.20//NONSGML v1.0//EN
CALSCALE:GREGORIAN
METHOD:PUBLISH
X-ORIGINAL-URL:https://www.thewellnesscoalition.org
X-WR-CALDESC:Events for The Wellness Coalition
REFRESH-INTERVAL;VALUE=DURATION:PT1H
X-Robots-Tag:noindex
X-PUBLISHED-TTL:PT1H
BEGIN:VTIMEZONE
TZID:America/Chicago
BEGIN:DAYLIGHT
TZOFFSETFROM:-0600
TZOFFSETTO:-0500
TZNAME:CDT
DTSTART:20230312T080000
END:DAYLIGHT
BEGIN:STANDARD
TZOFFSETFROM:-0500
TZOFFSETTO:-0600
TZNAME:CST
DTSTART:20231105T070000
END:STANDARD
BEGIN:DAYLIGHT
TZOFFSETFROM:-0600
TZOFFSETTO:-0500
TZNAME:CDT
DTSTART:20240310T080000
END:DAYLIGHT
BEGIN:STANDARD
TZOFFSETFROM:-0500
TZOFFSETTO:-0600
TZNAME:CST
DTSTART:20241103T070000
END:STANDARD
BEGIN:DAYLIGHT
TZOFFSETFROM:-0600
TZOFFSETTO:-0500
TZNAME:CDT
DTSTART:20250309T080000
END:DAYLIGHT
BEGIN:STANDARD
TZOFFSETFROM:-0500
TZOFFSETTO:-0600
TZNAME:CST
DTSTART:20251102T070000
END:STANDARD
END:VTIMEZONE
BEGIN:VEVENT
DTSTART;TZID=America/Chicago:20240605T120000
DTEND;TZID=America/Chicago:20240605T140000
DTSTAMP:20260424T172420
CREATED:20240515T205244Z
LAST-MODIFIED:20240515T205356Z
UID:10000125-1717588800-1717596000@www.thewellnesscoalition.org
SUMMARY:Baby Café at the Family Service Center
DESCRIPTION:Baby Cafés are a free place for every parent who needs support with breastfeeding services! No appointment or insurance necessary.
URL:https://www.thewellnesscoalition.org/event/baby-cafe-at-the-family-service-center/2024-06-05/
LOCATION:Family Guidance Center\, 2358 Fairlane Drive\, Montgomery\, AL\, 36116\, United States
CATEGORIES:Breastfeeding
ATTACH;FMTTYPE=image/png:https://www.thewellnesscoalition.org/wp-content/uploads/2024/05/Baby-Cafe-FGC.png
END:VEVENT
BEGIN:VEVENT
DTSTART;TZID=America/Chicago:20240604T173000
DTEND;TZID=America/Chicago:20240604T193000
DTSTAMP:20260424T172420
CREATED:20240515T205553Z
LAST-MODIFIED:20240515T205553Z
UID:10000164-1717522200-1717529400@www.thewellnesscoalition.org
SUMMARY:Baby Café at the Family Service Center
DESCRIPTION:Baby Cafés are a free place for every parent who needs support with breastfeeding services! No appointment or insurance necessary.
URL:https://www.thewellnesscoalition.org/event/baby-cafe-at-the-family-service-center-2/2024-06-04/
LOCATION:Family Guidance Center\, 2358 Fairlane Drive\, Montgomery\, AL\, 36116\, United States
CATEGORIES:Breastfeeding
ATTACH;FMTTYPE=image/png:https://www.thewellnesscoalition.org/wp-content/uploads/2024/05/Baby-Cafe-FGC.png
END:VEVENT
BEGIN:VEVENT
DTSTART;TZID=America/Chicago:20240531T120000
DTEND;TZID=America/Chicago:20240531T140000
DTSTAMP:20260424T172420
CREATED:20240515T205803Z
LAST-MODIFIED:20240515T205803Z
UID:10000243-1717156800-1717164000@www.thewellnesscoalition.org
SUMMARY:Baby Café at the Family Service Center
DESCRIPTION:Baby Cafés are a free place for every parent who needs support with breastfeeding services! No appointment or insurance necessary.
URL:https://www.thewellnesscoalition.org/event/baby-cafe-at-the-family-service-center-4/2024-05-31/
LOCATION:Family Guidance Center\, 2358 Fairlane Drive\, Montgomery\, AL\, 36116\, United States
CATEGORIES:Breastfeeding
ATTACH;FMTTYPE=image/png:https://www.thewellnesscoalition.org/wp-content/uploads/2024/05/Baby-Cafe-FGC.png
END:VEVENT
BEGIN:VEVENT
DTSTART;TZID=America/Chicago:20240530T173000
DTEND;TZID=America/Chicago:20240530T193000
DTSTAMP:20260424T172420
CREATED:20240515T205704Z
LAST-MODIFIED:20240515T205704Z
UID:10000203-1717090200-1717097400@www.thewellnesscoalition.org
SUMMARY:Baby Café at the Family Service Center
DESCRIPTION:Baby Cafés are a free place for every parent who needs support with breastfeeding services! No appointment or insurance necessary.
URL:https://www.thewellnesscoalition.org/event/baby-cafe-at-the-family-service-center-3/2024-05-30/
LOCATION:Family Guidance Center\, 2358 Fairlane Drive\, Montgomery\, AL\, 36116\, United States
CATEGORIES:Breastfeeding
ATTACH;FMTTYPE=image/png:https://www.thewellnesscoalition.org/wp-content/uploads/2024/05/Baby-Cafe-FGC.png
END:VEVENT
BEGIN:VEVENT
DTSTART;TZID=America/Chicago:20240529T120000
DTEND;TZID=America/Chicago:20240529T140000
DTSTAMP:20260424T172420
CREATED:20240515T205244Z
LAST-MODIFIED:20240515T205356Z
UID:10000124-1716984000-1716991200@www.thewellnesscoalition.org
SUMMARY:Baby Café at the Family Service Center
DESCRIPTION:Baby Cafés are a free place for every parent who needs support with breastfeeding services! No appointment or insurance necessary.
URL:https://www.thewellnesscoalition.org/event/baby-cafe-at-the-family-service-center/2024-05-29/
LOCATION:Family Guidance Center\, 2358 Fairlane Drive\, Montgomery\, AL\, 36116\, United States
CATEGORIES:Breastfeeding
ATTACH;FMTTYPE=image/png:https://www.thewellnesscoalition.org/wp-content/uploads/2024/05/Baby-Cafe-FGC.png
END:VEVENT
BEGIN:VEVENT
DTSTART;TZID=America/Chicago:20240528T173000
DTEND;TZID=America/Chicago:20240528T193000
DTSTAMP:20260424T172420
CREATED:20240515T205553Z
LAST-MODIFIED:20240515T205553Z
UID:10000163-1716917400-1716924600@www.thewellnesscoalition.org
SUMMARY:Baby Café at the Family Service Center
DESCRIPTION:Baby Cafés are a free place for every parent who needs support with breastfeeding services! No appointment or insurance necessary.
URL:https://www.thewellnesscoalition.org/event/baby-cafe-at-the-family-service-center-2/2024-05-28/
LOCATION:Family Guidance Center\, 2358 Fairlane Drive\, Montgomery\, AL\, 36116\, United States
CATEGORIES:Breastfeeding
ATTACH;FMTTYPE=image/png:https://www.thewellnesscoalition.org/wp-content/uploads/2024/05/Baby-Cafe-FGC.png
END:VEVENT
BEGIN:VEVENT
DTSTART;TZID=America/Chicago:20240524T120000
DTEND;TZID=America/Chicago:20240524T140000
DTSTAMP:20260424T172420
CREATED:20240515T205803Z
LAST-MODIFIED:20240515T205803Z
UID:10000242-1716552000-1716559200@www.thewellnesscoalition.org
SUMMARY:Baby Café at the Family Service Center
DESCRIPTION:Baby Cafés are a free place for every parent who needs support with breastfeeding services! No appointment or insurance necessary.
URL:https://www.thewellnesscoalition.org/event/baby-cafe-at-the-family-service-center-4/2024-05-24/
LOCATION:Family Guidance Center\, 2358 Fairlane Drive\, Montgomery\, AL\, 36116\, United States
CATEGORIES:Breastfeeding
ATTACH;FMTTYPE=image/png:https://www.thewellnesscoalition.org/wp-content/uploads/2024/05/Baby-Cafe-FGC.png
END:VEVENT
BEGIN:VEVENT
DTSTART;TZID=America/Chicago:20240523T173000
DTEND;TZID=America/Chicago:20240523T193000
DTSTAMP:20260424T172420
CREATED:20240515T205704Z
LAST-MODIFIED:20240515T205704Z
UID:10000202-1716485400-1716492600@www.thewellnesscoalition.org
SUMMARY:Baby Café at the Family Service Center
DESCRIPTION:Baby Cafés are a free place for every parent who needs support with breastfeeding services! No appointment or insurance necessary.
URL:https://www.thewellnesscoalition.org/event/baby-cafe-at-the-family-service-center-3/2024-05-23/
LOCATION:Family Guidance Center\, 2358 Fairlane Drive\, Montgomery\, AL\, 36116\, United States
CATEGORIES:Breastfeeding
ATTACH;FMTTYPE=image/png:https://www.thewellnesscoalition.org/wp-content/uploads/2024/05/Baby-Cafe-FGC.png
END:VEVENT
BEGIN:VEVENT
DTSTART;TZID=America/Chicago:20240522T120000
DTEND;TZID=America/Chicago:20240522T140000
DTSTAMP:20260424T172420
CREATED:20240515T205244Z
LAST-MODIFIED:20240515T205356Z
UID:10000123-1716379200-1716386400@www.thewellnesscoalition.org
SUMMARY:Baby Café at the Family Service Center
DESCRIPTION:Baby Cafés are a free place for every parent who needs support with breastfeeding services! No appointment or insurance necessary.
URL:https://www.thewellnesscoalition.org/event/baby-cafe-at-the-family-service-center/2024-05-22/
LOCATION:Family Guidance Center\, 2358 Fairlane Drive\, Montgomery\, AL\, 36116\, United States
CATEGORIES:Breastfeeding
ATTACH;FMTTYPE=image/png:https://www.thewellnesscoalition.org/wp-content/uploads/2024/05/Baby-Cafe-FGC.png
END:VEVENT
BEGIN:VEVENT
DTSTART;TZID=America/Chicago:20240521T173000
DTEND;TZID=America/Chicago:20240521T193000
DTSTAMP:20260424T172420
CREATED:20240515T205553Z
LAST-MODIFIED:20240515T205553Z
UID:10000162-1716312600-1716319800@www.thewellnesscoalition.org
SUMMARY:Baby Café at the Family Service Center
DESCRIPTION:Baby Cafés are a free place for every parent who needs support with breastfeeding services! No appointment or insurance necessary.
URL:https://www.thewellnesscoalition.org/event/baby-cafe-at-the-family-service-center-2/2024-05-21/
LOCATION:Family Guidance Center\, 2358 Fairlane Drive\, Montgomery\, AL\, 36116\, United States
CATEGORIES:Breastfeeding
ATTACH;FMTTYPE=image/png:https://www.thewellnesscoalition.org/wp-content/uploads/2024/05/Baby-Cafe-FGC.png
END:VEVENT
BEGIN:VEVENT
DTSTART;TZID=America/Chicago:20240517T120000
DTEND;TZID=America/Chicago:20240517T140000
DTSTAMP:20260424T172420
CREATED:20240515T205803Z
LAST-MODIFIED:20240515T205803Z
UID:10000241-1715947200-1715954400@www.thewellnesscoalition.org
SUMMARY:Baby Café at the Family Service Center
DESCRIPTION:Baby Cafés are a free place for every parent who needs support with breastfeeding services! No appointment or insurance necessary.
URL:https://www.thewellnesscoalition.org/event/baby-cafe-at-the-family-service-center-4/2024-05-17/
LOCATION:Family Guidance Center\, 2358 Fairlane Drive\, Montgomery\, AL\, 36116\, United States
CATEGORIES:Breastfeeding
ATTACH;FMTTYPE=image/png:https://www.thewellnesscoalition.org/wp-content/uploads/2024/05/Baby-Cafe-FGC.png
END:VEVENT
BEGIN:VEVENT
DTSTART;TZID=America/Chicago:20240516T173000
DTEND;TZID=America/Chicago:20240516T193000
DTSTAMP:20260424T172420
CREATED:20240515T205704Z
LAST-MODIFIED:20240515T205704Z
UID:10000201-1715880600-1715887800@www.thewellnesscoalition.org
SUMMARY:Baby Café at the Family Service Center
DESCRIPTION:Baby Cafés are a free place for every parent who needs support with breastfeeding services! No appointment or insurance necessary.
URL:https://www.thewellnesscoalition.org/event/baby-cafe-at-the-family-service-center-3/2024-05-16/
LOCATION:Family Guidance Center\, 2358 Fairlane Drive\, Montgomery\, AL\, 36116\, United States
CATEGORIES:Breastfeeding
ATTACH;FMTTYPE=image/png:https://www.thewellnesscoalition.org/wp-content/uploads/2024/05/Baby-Cafe-FGC.png
END:VEVENT
BEGIN:VEVENT
DTSTART;TZID=America/Chicago:20240515T120000
DTEND;TZID=America/Chicago:20240515T140000
DTSTAMP:20260424T172420
CREATED:20240515T205244Z
LAST-MODIFIED:20240515T205356Z
UID:10000122-1715774400-1715781600@www.thewellnesscoalition.org
SUMMARY:Baby Café at the Family Service Center
DESCRIPTION:Baby Cafés are a free place for every parent who needs support with breastfeeding services! No appointment or insurance necessary.
URL:https://www.thewellnesscoalition.org/event/baby-cafe-at-the-family-service-center/2024-05-15/
LOCATION:Family Guidance Center\, 2358 Fairlane Drive\, Montgomery\, AL\, 36116\, United States
CATEGORIES:Breastfeeding
ATTACH;FMTTYPE=image/png:https://www.thewellnesscoalition.org/wp-content/uploads/2024/05/Baby-Cafe-FGC.png
END:VEVENT
END:VCALENDAR