BEGIN:VCALENDAR
VERSION:2.0
PRODID:-//The Wellness Coalition - ECPv6.15.20//NONSGML v1.0//EN
CALSCALE:GREGORIAN
METHOD:PUBLISH
X-ORIGINAL-URL:https://www.thewellnesscoalition.org
X-WR-CALDESC:Events for The Wellness Coalition
REFRESH-INTERVAL;VALUE=DURATION:PT1H
X-Robots-Tag:noindex
X-PUBLISHED-TTL:PT1H
BEGIN:VTIMEZONE
TZID:America/Chicago
BEGIN:DAYLIGHT
TZOFFSETFROM:-0600
TZOFFSETTO:-0500
TZNAME:CDT
DTSTART:20230312T080000
END:DAYLIGHT
BEGIN:STANDARD
TZOFFSETFROM:-0500
TZOFFSETTO:-0600
TZNAME:CST
DTSTART:20231105T070000
END:STANDARD
BEGIN:DAYLIGHT
TZOFFSETFROM:-0600
TZOFFSETTO:-0500
TZNAME:CDT
DTSTART:20240310T080000
END:DAYLIGHT
BEGIN:STANDARD
TZOFFSETFROM:-0500
TZOFFSETTO:-0600
TZNAME:CST
DTSTART:20241103T070000
END:STANDARD
BEGIN:DAYLIGHT
TZOFFSETFROM:-0600
TZOFFSETTO:-0500
TZNAME:CDT
DTSTART:20250309T080000
END:DAYLIGHT
BEGIN:STANDARD
TZOFFSETFROM:-0500
TZOFFSETTO:-0600
TZNAME:CST
DTSTART:20251102T070000
END:STANDARD
BEGIN:DAYLIGHT
TZOFFSETFROM:-0600
TZOFFSETTO:-0500
TZNAME:CDT
DTSTART:20260308T080000
END:DAYLIGHT
BEGIN:STANDARD
TZOFFSETFROM:-0500
TZOFFSETTO:-0600
TZNAME:CST
DTSTART:20261101T070000
END:STANDARD
END:VTIMEZONE
BEGIN:VEVENT
DTSTART;TZID=America/Chicago:20250918T173000
DTEND;TZID=America/Chicago:20250918T193000
DTSTAMP:20260424T074924
CREATED:20241112T205350Z
LAST-MODIFIED:20250310T174154Z
UID:10001867-1758216600-1758223800@www.thewellnesscoalition.org
SUMMARY:Lactation Link
DESCRIPTION:Join us for a collaborative night for women’s health professionals. Connect with fellow health professionals\, enjoy light refreshments\, and discover the invaluable services provided at Baby Cafés. \nRegister
URL:https://www.thewellnesscoalition.org/event/lactation-link/2025-09-18/
LOCATION:Family Guidance Center\, 2358 Fairlane Drive\, Montgomery\, AL\, 36116\, United States
CATEGORIES:Lactation Link
ATTACH;FMTTYPE=image/png:https://www.thewellnesscoalition.org/wp-content/uploads/2024/11/Lactation-Link-Header_Final-1.png
END:VEVENT
BEGIN:VEVENT
DTSTART;TZID=America/Chicago:20250821T173000
DTEND;TZID=America/Chicago:20250821T193000
DTSTAMP:20260424T074924
CREATED:20241112T205350Z
LAST-MODIFIED:20250310T174154Z
UID:10001866-1755797400-1755804600@www.thewellnesscoalition.org
SUMMARY:Lactation Link
DESCRIPTION:Join us for a collaborative night for women’s health professionals. Connect with fellow health professionals\, enjoy light refreshments\, and discover the invaluable services provided at Baby Cafés. \nRegister
URL:https://www.thewellnesscoalition.org/event/lactation-link/2025-08-21/
LOCATION:Family Guidance Center\, 2358 Fairlane Drive\, Montgomery\, AL\, 36116\, United States
CATEGORIES:Lactation Link
ATTACH;FMTTYPE=image/png:https://www.thewellnesscoalition.org/wp-content/uploads/2024/11/Lactation-Link-Header_Final-1.png
END:VEVENT
BEGIN:VEVENT
DTSTART;TZID=America/Chicago:20250717T173000
DTEND;TZID=America/Chicago:20250717T193000
DTSTAMP:20260424T074924
CREATED:20241112T205350Z
LAST-MODIFIED:20250310T174154Z
UID:10001865-1752773400-1752780600@www.thewellnesscoalition.org
SUMMARY:Lactation Link
DESCRIPTION:Join us for a collaborative night for women’s health professionals. Connect with fellow health professionals\, enjoy light refreshments\, and discover the invaluable services provided at Baby Cafés. \nRegister
URL:https://www.thewellnesscoalition.org/event/lactation-link/2025-07-17/
LOCATION:Family Guidance Center\, 2358 Fairlane Drive\, Montgomery\, AL\, 36116\, United States
CATEGORIES:Lactation Link
ATTACH;FMTTYPE=image/png:https://www.thewellnesscoalition.org/wp-content/uploads/2024/11/Lactation-Link-Header_Final-1.png
END:VEVENT
BEGIN:VEVENT
DTSTART;TZID=America/Chicago:20250619T173000
DTEND;TZID=America/Chicago:20250619T193000
DTSTAMP:20260424T074924
CREATED:20241112T205350Z
LAST-MODIFIED:20250310T174154Z
UID:10001864-1750354200-1750361400@www.thewellnesscoalition.org
SUMMARY:Lactation Link
DESCRIPTION:Join us for a collaborative night for women’s health professionals. Connect with fellow health professionals\, enjoy light refreshments\, and discover the invaluable services provided at Baby Cafés. \nRegister
URL:https://www.thewellnesscoalition.org/event/lactation-link/2025-06-19/
LOCATION:Family Guidance Center\, 2358 Fairlane Drive\, Montgomery\, AL\, 36116\, United States
CATEGORIES:Lactation Link
ATTACH;FMTTYPE=image/png:https://www.thewellnesscoalition.org/wp-content/uploads/2024/11/Lactation-Link-Header_Final-1.png
END:VEVENT
BEGIN:VEVENT
DTSTART;TZID=America/Chicago:20250515T173000
DTEND;TZID=America/Chicago:20250515T193000
DTSTAMP:20260424T074924
CREATED:20241112T205350Z
LAST-MODIFIED:20250310T174154Z
UID:10001863-1747330200-1747337400@www.thewellnesscoalition.org
SUMMARY:Lactation Link
DESCRIPTION:Join us for a collaborative night for women’s health professionals. Connect with fellow health professionals\, enjoy light refreshments\, and discover the invaluable services provided at Baby Cafés. \nRegister
URL:https://www.thewellnesscoalition.org/event/lactation-link/2025-05-15/
LOCATION:Family Guidance Center\, 2358 Fairlane Drive\, Montgomery\, AL\, 36116\, United States
CATEGORIES:Lactation Link
ATTACH;FMTTYPE=image/png:https://www.thewellnesscoalition.org/wp-content/uploads/2024/11/Lactation-Link-Header_Final-1.png
END:VEVENT
BEGIN:VEVENT
DTSTART;TZID=America/Chicago:20250417T173000
DTEND;TZID=America/Chicago:20250417T193000
DTSTAMP:20260424T074924
CREATED:20241112T205350Z
LAST-MODIFIED:20250310T174154Z
UID:10001862-1744911000-1744918200@www.thewellnesscoalition.org
SUMMARY:Lactation Link
DESCRIPTION:Join us for a collaborative night for women’s health professionals. Connect with fellow health professionals\, enjoy light refreshments\, and discover the invaluable services provided at Baby Cafés. \nRegister
URL:https://www.thewellnesscoalition.org/event/lactation-link/2025-04-17/
LOCATION:Family Guidance Center\, 2358 Fairlane Drive\, Montgomery\, AL\, 36116\, United States
CATEGORIES:Lactation Link
ATTACH;FMTTYPE=image/png:https://www.thewellnesscoalition.org/wp-content/uploads/2024/11/Lactation-Link-Header_Final-1.png
END:VEVENT
BEGIN:VEVENT
DTSTART;TZID=America/Chicago:20250320T173000
DTEND;TZID=America/Chicago:20250320T193000
DTSTAMP:20260424T074924
CREATED:20241112T205350Z
LAST-MODIFIED:20250310T174154Z
UID:10001861-1742491800-1742499000@www.thewellnesscoalition.org
SUMMARY:Lactation Link
DESCRIPTION:Join us for a collaborative night for women’s health professionals. Connect with fellow health professionals\, enjoy light refreshments\, and discover the invaluable services provided at Baby Cafés. \nRegister
URL:https://www.thewellnesscoalition.org/event/lactation-link/2025-03-20/
LOCATION:Family Guidance Center\, 2358 Fairlane Drive\, Montgomery\, AL\, 36116\, United States
CATEGORIES:Lactation Link
ATTACH;FMTTYPE=image/png:https://www.thewellnesscoalition.org/wp-content/uploads/2024/11/Lactation-Link-Header_Final-1.png
END:VEVENT
BEGIN:VEVENT
DTSTART;TZID=America/Chicago:20250220T173000
DTEND;TZID=America/Chicago:20250220T193000
DTSTAMP:20260424T074924
CREATED:20241112T205350Z
LAST-MODIFIED:20250310T174154Z
UID:10001860-1740072600-1740079800@www.thewellnesscoalition.org
SUMMARY:Lactation Link
DESCRIPTION:Join us for a collaborative night for women’s health professionals. Connect with fellow health professionals\, enjoy light refreshments\, and discover the invaluable services provided at Baby Cafés. \nRegister
URL:https://www.thewellnesscoalition.org/event/lactation-link/2025-02-20/
LOCATION:Family Guidance Center\, 2358 Fairlane Drive\, Montgomery\, AL\, 36116\, United States
CATEGORIES:Lactation Link
ATTACH;FMTTYPE=image/png:https://www.thewellnesscoalition.org/wp-content/uploads/2024/11/Lactation-Link-Header_Final-1.png
END:VEVENT
BEGIN:VEVENT
DTSTART;TZID=America/Chicago:20250116T173000
DTEND;TZID=America/Chicago:20250116T193000
DTSTAMP:20260424T074924
CREATED:20241112T205350Z
LAST-MODIFIED:20250310T174154Z
UID:10001859-1737048600-1737055800@www.thewellnesscoalition.org
SUMMARY:Lactation Link
DESCRIPTION:Join us for a collaborative night for women’s health professionals. Connect with fellow health professionals\, enjoy light refreshments\, and discover the invaluable services provided at Baby Cafés. \nRegister
URL:https://www.thewellnesscoalition.org/event/lactation-link/2025-01-16/
LOCATION:Family Guidance Center\, 2358 Fairlane Drive\, Montgomery\, AL\, 36116\, United States
CATEGORIES:Lactation Link
ATTACH;FMTTYPE=image/png:https://www.thewellnesscoalition.org/wp-content/uploads/2024/11/Lactation-Link-Header_Final-1.png
END:VEVENT
BEGIN:VEVENT
DTSTART;TZID=America/Chicago:20241219T173000
DTEND;TZID=America/Chicago:20241219T193000
DTSTAMP:20260424T074924
CREATED:20241112T205350Z
LAST-MODIFIED:20250310T174154Z
UID:10001858-1734629400-1734636600@www.thewellnesscoalition.org
SUMMARY:Lactation Link
DESCRIPTION:Join us for a collaborative night for women’s health professionals. Connect with fellow health professionals\, enjoy light refreshments\, and discover the invaluable services provided at Baby Cafés. \nRegister
URL:https://www.thewellnesscoalition.org/event/lactation-link/2024-12-19/
LOCATION:Family Guidance Center\, 2358 Fairlane Drive\, Montgomery\, AL\, 36116\, United States
CATEGORIES:Lactation Link
ATTACH;FMTTYPE=image/png:https://www.thewellnesscoalition.org/wp-content/uploads/2024/11/Lactation-Link-Header_Final-1.png
END:VEVENT
BEGIN:VEVENT
DTSTART;TZID=America/Chicago:20241121T173000
DTEND;TZID=America/Chicago:20241121T193000
DTSTAMP:20260424T074924
CREATED:20241112T205350Z
LAST-MODIFIED:20250310T174154Z
UID:10001857-1732210200-1732217400@www.thewellnesscoalition.org
SUMMARY:Lactation Link
DESCRIPTION:Join us for a collaborative night for women’s health professionals. Connect with fellow health professionals\, enjoy light refreshments\, and discover the invaluable services provided at Baby Cafés. \nRegister
URL:https://www.thewellnesscoalition.org/event/lactation-link/2024-11-21/
LOCATION:Family Guidance Center\, 2358 Fairlane Drive\, Montgomery\, AL\, 36116\, United States
CATEGORIES:Lactation Link
ATTACH;FMTTYPE=image/png:https://www.thewellnesscoalition.org/wp-content/uploads/2024/11/Lactation-Link-Header_Final-1.png
END:VEVENT
BEGIN:VEVENT
DTSTART;TZID=America/Chicago:20240920T120000
DTEND;TZID=America/Chicago:20240920T140000
DTSTAMP:20260424T074924
CREATED:20240515T205803Z
LAST-MODIFIED:20240515T205803Z
UID:10000259-1726833600-1726840800@www.thewellnesscoalition.org
SUMMARY:Baby Café at the Family Service Center
DESCRIPTION:Baby Cafés are a free place for every parent who needs support with breastfeeding services! No appointment or insurance necessary.
URL:https://www.thewellnesscoalition.org/event/baby-cafe-at-the-family-service-center-4/2024-09-20/
LOCATION:Family Guidance Center\, 2358 Fairlane Drive\, Montgomery\, AL\, 36116\, United States
CATEGORIES:Breastfeeding
ATTACH;FMTTYPE=image/png:https://www.thewellnesscoalition.org/wp-content/uploads/2024/05/Baby-Cafe-FGC.png
END:VEVENT
BEGIN:VEVENT
DTSTART;TZID=America/Chicago:20240919T173000
DTEND;TZID=America/Chicago:20240919T193000
DTSTAMP:20260424T074924
CREATED:20240515T205704Z
LAST-MODIFIED:20240515T205704Z
UID:10000219-1726767000-1726774200@www.thewellnesscoalition.org
SUMMARY:Baby Café at the Family Service Center
DESCRIPTION:Baby Cafés are a free place for every parent who needs support with breastfeeding services! No appointment or insurance necessary.
URL:https://www.thewellnesscoalition.org/event/baby-cafe-at-the-family-service-center-3/2024-09-19/
LOCATION:Family Guidance Center\, 2358 Fairlane Drive\, Montgomery\, AL\, 36116\, United States
CATEGORIES:Breastfeeding
ATTACH;FMTTYPE=image/png:https://www.thewellnesscoalition.org/wp-content/uploads/2024/05/Baby-Cafe-FGC.png
END:VEVENT
BEGIN:VEVENT
DTSTART;TZID=America/Chicago:20240918T120000
DTEND;TZID=America/Chicago:20240918T140000
DTSTAMP:20260424T074924
CREATED:20240515T205244Z
LAST-MODIFIED:20240515T205356Z
UID:10000140-1726660800-1726668000@www.thewellnesscoalition.org
SUMMARY:Baby Café at the Family Service Center
DESCRIPTION:Baby Cafés are a free place for every parent who needs support with breastfeeding services! No appointment or insurance necessary.
URL:https://www.thewellnesscoalition.org/event/baby-cafe-at-the-family-service-center/2024-09-18/
LOCATION:Family Guidance Center\, 2358 Fairlane Drive\, Montgomery\, AL\, 36116\, United States
CATEGORIES:Breastfeeding
ATTACH;FMTTYPE=image/png:https://www.thewellnesscoalition.org/wp-content/uploads/2024/05/Baby-Cafe-FGC.png
END:VEVENT
BEGIN:VEVENT
DTSTART;TZID=America/Chicago:20240913T120000
DTEND;TZID=America/Chicago:20240913T140000
DTSTAMP:20260424T074924
CREATED:20240515T205803Z
LAST-MODIFIED:20240515T205803Z
UID:10000258-1726228800-1726236000@www.thewellnesscoalition.org
SUMMARY:Baby Café at the Family Service Center
DESCRIPTION:Baby Cafés are a free place for every parent who needs support with breastfeeding services! No appointment or insurance necessary.
URL:https://www.thewellnesscoalition.org/event/baby-cafe-at-the-family-service-center-4/2024-09-13/
LOCATION:Family Guidance Center\, 2358 Fairlane Drive\, Montgomery\, AL\, 36116\, United States
CATEGORIES:Breastfeeding
ATTACH;FMTTYPE=image/png:https://www.thewellnesscoalition.org/wp-content/uploads/2024/05/Baby-Cafe-FGC.png
END:VEVENT
BEGIN:VEVENT
DTSTART;TZID=America/Chicago:20240912T173000
DTEND;TZID=America/Chicago:20240912T193000
DTSTAMP:20260424T074924
CREATED:20240515T205704Z
LAST-MODIFIED:20240515T205704Z
UID:10000218-1726162200-1726169400@www.thewellnesscoalition.org
SUMMARY:Baby Café at the Family Service Center
DESCRIPTION:Baby Cafés are a free place for every parent who needs support with breastfeeding services! No appointment or insurance necessary.
URL:https://www.thewellnesscoalition.org/event/baby-cafe-at-the-family-service-center-3/2024-09-12/
LOCATION:Family Guidance Center\, 2358 Fairlane Drive\, Montgomery\, AL\, 36116\, United States
CATEGORIES:Breastfeeding
ATTACH;FMTTYPE=image/png:https://www.thewellnesscoalition.org/wp-content/uploads/2024/05/Baby-Cafe-FGC.png
END:VEVENT
BEGIN:VEVENT
DTSTART;TZID=America/Chicago:20240911T120000
DTEND;TZID=America/Chicago:20240911T140000
DTSTAMP:20260424T074924
CREATED:20240515T205244Z
LAST-MODIFIED:20240515T205356Z
UID:10000139-1726056000-1726063200@www.thewellnesscoalition.org
SUMMARY:Baby Café at the Family Service Center
DESCRIPTION:Baby Cafés are a free place for every parent who needs support with breastfeeding services! No appointment or insurance necessary.
URL:https://www.thewellnesscoalition.org/event/baby-cafe-at-the-family-service-center/2024-09-11/
LOCATION:Family Guidance Center\, 2358 Fairlane Drive\, Montgomery\, AL\, 36116\, United States
CATEGORIES:Breastfeeding
ATTACH;FMTTYPE=image/png:https://www.thewellnesscoalition.org/wp-content/uploads/2024/05/Baby-Cafe-FGC.png
END:VEVENT
BEGIN:VEVENT
DTSTART;TZID=America/Chicago:20240910T173000
DTEND;TZID=America/Chicago:20240910T193000
DTSTAMP:20260424T074924
CREATED:20240515T205553Z
LAST-MODIFIED:20240515T205553Z
UID:10000178-1725989400-1725996600@www.thewellnesscoalition.org
SUMMARY:Baby Café at the Family Service Center
DESCRIPTION:Baby Cafés are a free place for every parent who needs support with breastfeeding services! No appointment or insurance necessary.
URL:https://www.thewellnesscoalition.org/event/baby-cafe-at-the-family-service-center-2/2024-09-10/
LOCATION:Family Guidance Center\, 2358 Fairlane Drive\, Montgomery\, AL\, 36116\, United States
CATEGORIES:Breastfeeding
ATTACH;FMTTYPE=image/png:https://www.thewellnesscoalition.org/wp-content/uploads/2024/05/Baby-Cafe-FGC.png
END:VEVENT
BEGIN:VEVENT
DTSTART;TZID=America/Chicago:20240906T120000
DTEND;TZID=America/Chicago:20240906T140000
DTSTAMP:20260424T074924
CREATED:20240515T205803Z
LAST-MODIFIED:20240515T205803Z
UID:10000257-1725624000-1725631200@www.thewellnesscoalition.org
SUMMARY:Baby Café at the Family Service Center
DESCRIPTION:Baby Cafés are a free place for every parent who needs support with breastfeeding services! No appointment or insurance necessary.
URL:https://www.thewellnesscoalition.org/event/baby-cafe-at-the-family-service-center-4/2024-09-06/
LOCATION:Family Guidance Center\, 2358 Fairlane Drive\, Montgomery\, AL\, 36116\, United States
CATEGORIES:Breastfeeding
ATTACH;FMTTYPE=image/png:https://www.thewellnesscoalition.org/wp-content/uploads/2024/05/Baby-Cafe-FGC.png
END:VEVENT
BEGIN:VEVENT
DTSTART;TZID=America/Chicago:20240905T173000
DTEND;TZID=America/Chicago:20240905T193000
DTSTAMP:20260424T074924
CREATED:20240515T205704Z
LAST-MODIFIED:20240515T205704Z
UID:10000217-1725557400-1725564600@www.thewellnesscoalition.org
SUMMARY:Baby Café at the Family Service Center
DESCRIPTION:Baby Cafés are a free place for every parent who needs support with breastfeeding services! No appointment or insurance necessary.
URL:https://www.thewellnesscoalition.org/event/baby-cafe-at-the-family-service-center-3/2024-09-05/
LOCATION:Family Guidance Center\, 2358 Fairlane Drive\, Montgomery\, AL\, 36116\, United States
CATEGORIES:Breastfeeding
ATTACH;FMTTYPE=image/png:https://www.thewellnesscoalition.org/wp-content/uploads/2024/05/Baby-Cafe-FGC.png
END:VEVENT
BEGIN:VEVENT
DTSTART;TZID=America/Chicago:20240904T120000
DTEND;TZID=America/Chicago:20240904T140000
DTSTAMP:20260424T074924
CREATED:20240515T205244Z
LAST-MODIFIED:20240515T205356Z
UID:10000138-1725451200-1725458400@www.thewellnesscoalition.org
SUMMARY:Baby Café at the Family Service Center
DESCRIPTION:Baby Cafés are a free place for every parent who needs support with breastfeeding services! No appointment or insurance necessary.
URL:https://www.thewellnesscoalition.org/event/baby-cafe-at-the-family-service-center/2024-09-04/
LOCATION:Family Guidance Center\, 2358 Fairlane Drive\, Montgomery\, AL\, 36116\, United States
CATEGORIES:Breastfeeding
ATTACH;FMTTYPE=image/png:https://www.thewellnesscoalition.org/wp-content/uploads/2024/05/Baby-Cafe-FGC.png
END:VEVENT
BEGIN:VEVENT
DTSTART;TZID=America/Chicago:20240903T173000
DTEND;TZID=America/Chicago:20240903T193000
DTSTAMP:20260424T074924
CREATED:20240515T205553Z
LAST-MODIFIED:20240515T205553Z
UID:10000177-1725384600-1725391800@www.thewellnesscoalition.org
SUMMARY:Baby Café at the Family Service Center
DESCRIPTION:Baby Cafés are a free place for every parent who needs support with breastfeeding services! No appointment or insurance necessary.
URL:https://www.thewellnesscoalition.org/event/baby-cafe-at-the-family-service-center-2/2024-09-03/
LOCATION:Family Guidance Center\, 2358 Fairlane Drive\, Montgomery\, AL\, 36116\, United States
CATEGORIES:Breastfeeding
ATTACH;FMTTYPE=image/png:https://www.thewellnesscoalition.org/wp-content/uploads/2024/05/Baby-Cafe-FGC.png
END:VEVENT
BEGIN:VEVENT
DTSTART;TZID=America/Chicago:20240830T120000
DTEND;TZID=America/Chicago:20240830T140000
DTSTAMP:20260424T074924
CREATED:20240515T205803Z
LAST-MODIFIED:20240515T205803Z
UID:10000256-1725019200-1725026400@www.thewellnesscoalition.org
SUMMARY:Baby Café at the Family Service Center
DESCRIPTION:Baby Cafés are a free place for every parent who needs support with breastfeeding services! No appointment or insurance necessary.
URL:https://www.thewellnesscoalition.org/event/baby-cafe-at-the-family-service-center-4/2024-08-30/
LOCATION:Family Guidance Center\, 2358 Fairlane Drive\, Montgomery\, AL\, 36116\, United States
CATEGORIES:Breastfeeding
ATTACH;FMTTYPE=image/png:https://www.thewellnesscoalition.org/wp-content/uploads/2024/05/Baby-Cafe-FGC.png
END:VEVENT
BEGIN:VEVENT
DTSTART;TZID=America/Chicago:20240829T173000
DTEND;TZID=America/Chicago:20240829T193000
DTSTAMP:20260424T074924
CREATED:20240515T205704Z
LAST-MODIFIED:20240515T205704Z
UID:10000216-1724952600-1724959800@www.thewellnesscoalition.org
SUMMARY:Baby Café at the Family Service Center
DESCRIPTION:Baby Cafés are a free place for every parent who needs support with breastfeeding services! No appointment or insurance necessary.
URL:https://www.thewellnesscoalition.org/event/baby-cafe-at-the-family-service-center-3/2024-08-29/
LOCATION:Family Guidance Center\, 2358 Fairlane Drive\, Montgomery\, AL\, 36116\, United States
CATEGORIES:Breastfeeding
ATTACH;FMTTYPE=image/png:https://www.thewellnesscoalition.org/wp-content/uploads/2024/05/Baby-Cafe-FGC.png
END:VEVENT
BEGIN:VEVENT
DTSTART;TZID=America/Chicago:20240828T120000
DTEND;TZID=America/Chicago:20240828T140000
DTSTAMP:20260424T074924
CREATED:20240515T205244Z
LAST-MODIFIED:20240515T205356Z
UID:10000137-1724846400-1724853600@www.thewellnesscoalition.org
SUMMARY:Baby Café at the Family Service Center
DESCRIPTION:Baby Cafés are a free place for every parent who needs support with breastfeeding services! No appointment or insurance necessary.
URL:https://www.thewellnesscoalition.org/event/baby-cafe-at-the-family-service-center/2024-08-28/
LOCATION:Family Guidance Center\, 2358 Fairlane Drive\, Montgomery\, AL\, 36116\, United States
CATEGORIES:Breastfeeding
ATTACH;FMTTYPE=image/png:https://www.thewellnesscoalition.org/wp-content/uploads/2024/05/Baby-Cafe-FGC.png
END:VEVENT
BEGIN:VEVENT
DTSTART;TZID=America/Chicago:20240827T173000
DTEND;TZID=America/Chicago:20240827T193000
DTSTAMP:20260424T074924
CREATED:20240515T205553Z
LAST-MODIFIED:20240515T205553Z
UID:10000176-1724779800-1724787000@www.thewellnesscoalition.org
SUMMARY:Baby Café at the Family Service Center
DESCRIPTION:Baby Cafés are a free place for every parent who needs support with breastfeeding services! No appointment or insurance necessary.
URL:https://www.thewellnesscoalition.org/event/baby-cafe-at-the-family-service-center-2/2024-08-27/
LOCATION:Family Guidance Center\, 2358 Fairlane Drive\, Montgomery\, AL\, 36116\, United States
CATEGORIES:Breastfeeding
ATTACH;FMTTYPE=image/png:https://www.thewellnesscoalition.org/wp-content/uploads/2024/05/Baby-Cafe-FGC.png
END:VEVENT
BEGIN:VEVENT
DTSTART;TZID=America/Chicago:20240823T120000
DTEND;TZID=America/Chicago:20240823T140000
DTSTAMP:20260424T074924
CREATED:20240515T205803Z
LAST-MODIFIED:20240515T205803Z
UID:10000255-1724414400-1724421600@www.thewellnesscoalition.org
SUMMARY:Baby Café at the Family Service Center
DESCRIPTION:Baby Cafés are a free place for every parent who needs support with breastfeeding services! No appointment or insurance necessary.
URL:https://www.thewellnesscoalition.org/event/baby-cafe-at-the-family-service-center-4/2024-08-23/
LOCATION:Family Guidance Center\, 2358 Fairlane Drive\, Montgomery\, AL\, 36116\, United States
CATEGORIES:Breastfeeding
ATTACH;FMTTYPE=image/png:https://www.thewellnesscoalition.org/wp-content/uploads/2024/05/Baby-Cafe-FGC.png
END:VEVENT
BEGIN:VEVENT
DTSTART;TZID=America/Chicago:20240822T173000
DTEND;TZID=America/Chicago:20240822T193000
DTSTAMP:20260424T074924
CREATED:20240515T205704Z
LAST-MODIFIED:20240515T205704Z
UID:10000215-1724347800-1724355000@www.thewellnesscoalition.org
SUMMARY:Baby Café at the Family Service Center
DESCRIPTION:Baby Cafés are a free place for every parent who needs support with breastfeeding services! No appointment or insurance necessary.
URL:https://www.thewellnesscoalition.org/event/baby-cafe-at-the-family-service-center-3/2024-08-22/
LOCATION:Family Guidance Center\, 2358 Fairlane Drive\, Montgomery\, AL\, 36116\, United States
CATEGORIES:Breastfeeding
ATTACH;FMTTYPE=image/png:https://www.thewellnesscoalition.org/wp-content/uploads/2024/05/Baby-Cafe-FGC.png
END:VEVENT
BEGIN:VEVENT
DTSTART;TZID=America/Chicago:20240821T120000
DTEND;TZID=America/Chicago:20240821T140000
DTSTAMP:20260424T074924
CREATED:20240515T205244Z
LAST-MODIFIED:20240515T205356Z
UID:10000136-1724241600-1724248800@www.thewellnesscoalition.org
SUMMARY:Baby Café at the Family Service Center
DESCRIPTION:Baby Cafés are a free place for every parent who needs support with breastfeeding services! No appointment or insurance necessary.
URL:https://www.thewellnesscoalition.org/event/baby-cafe-at-the-family-service-center/2024-08-21/
LOCATION:Family Guidance Center\, 2358 Fairlane Drive\, Montgomery\, AL\, 36116\, United States
CATEGORIES:Breastfeeding
ATTACH;FMTTYPE=image/png:https://www.thewellnesscoalition.org/wp-content/uploads/2024/05/Baby-Cafe-FGC.png
END:VEVENT
BEGIN:VEVENT
DTSTART;TZID=America/Chicago:20240820T173000
DTEND;TZID=America/Chicago:20240820T193000
DTSTAMP:20260424T074924
CREATED:20240515T205553Z
LAST-MODIFIED:20240515T205553Z
UID:10000175-1724175000-1724182200@www.thewellnesscoalition.org
SUMMARY:Baby Café at the Family Service Center
DESCRIPTION:Baby Cafés are a free place for every parent who needs support with breastfeeding services! No appointment or insurance necessary.
URL:https://www.thewellnesscoalition.org/event/baby-cafe-at-the-family-service-center-2/2024-08-20/
LOCATION:Family Guidance Center\, 2358 Fairlane Drive\, Montgomery\, AL\, 36116\, United States
CATEGORIES:Breastfeeding
ATTACH;FMTTYPE=image/png:https://www.thewellnesscoalition.org/wp-content/uploads/2024/05/Baby-Cafe-FGC.png
END:VEVENT
END:VCALENDAR