BEGIN:VCALENDAR
VERSION:2.0
PRODID:-//The Wellness Coalition - ECPv6.15.20//NONSGML v1.0//EN
CALSCALE:GREGORIAN
METHOD:PUBLISH
X-ORIGINAL-URL:https://www.thewellnesscoalition.org
X-WR-CALDESC:Events for The Wellness Coalition
REFRESH-INTERVAL;VALUE=DURATION:PT1H
X-Robots-Tag:noindex
X-PUBLISHED-TTL:PT1H
BEGIN:VTIMEZONE
TZID:America/Chicago
BEGIN:DAYLIGHT
TZOFFSETFROM:-0600
TZOFFSETTO:-0500
TZNAME:CDT
DTSTART:20230312T080000
END:DAYLIGHT
BEGIN:STANDARD
TZOFFSETFROM:-0500
TZOFFSETTO:-0600
TZNAME:CST
DTSTART:20231105T070000
END:STANDARD
BEGIN:DAYLIGHT
TZOFFSETFROM:-0600
TZOFFSETTO:-0500
TZNAME:CDT
DTSTART:20240310T080000
END:DAYLIGHT
BEGIN:STANDARD
TZOFFSETFROM:-0500
TZOFFSETTO:-0600
TZNAME:CST
DTSTART:20241103T070000
END:STANDARD
BEGIN:DAYLIGHT
TZOFFSETFROM:-0600
TZOFFSETTO:-0500
TZNAME:CDT
DTSTART:20250309T080000
END:DAYLIGHT
BEGIN:STANDARD
TZOFFSETFROM:-0500
TZOFFSETTO:-0600
TZNAME:CST
DTSTART:20251102T070000
END:STANDARD
END:VTIMEZONE
BEGIN:VEVENT
DTSTART;TZID=America/Chicago:20240820T173000
DTEND;TZID=America/Chicago:20240820T193000
DTSTAMP:20260424T122800
CREATED:20240515T205553Z
LAST-MODIFIED:20240515T205553Z
UID:10000175-1724175000-1724182200@www.thewellnesscoalition.org
SUMMARY:Baby Café at the Family Service Center
DESCRIPTION:Baby Cafés are a free place for every parent who needs support with breastfeeding services! No appointment or insurance necessary.
URL:https://www.thewellnesscoalition.org/event/baby-cafe-at-the-family-service-center-2/2024-08-20/
LOCATION:Family Guidance Center\, 2358 Fairlane Drive\, Montgomery\, AL\, 36116\, United States
CATEGORIES:Breastfeeding
ATTACH;FMTTYPE=image/png:https://www.thewellnesscoalition.org/wp-content/uploads/2024/05/Baby-Cafe-FGC.png
END:VEVENT
BEGIN:VEVENT
DTSTART;TZID=America/Chicago:20240816T120000
DTEND;TZID=America/Chicago:20240816T140000
DTSTAMP:20260424T122800
CREATED:20240515T205803Z
LAST-MODIFIED:20240515T205803Z
UID:10000254-1723809600-1723816800@www.thewellnesscoalition.org
SUMMARY:Baby Café at the Family Service Center
DESCRIPTION:Baby Cafés are a free place for every parent who needs support with breastfeeding services! No appointment or insurance necessary.
URL:https://www.thewellnesscoalition.org/event/baby-cafe-at-the-family-service-center-4/2024-08-16/
LOCATION:Family Guidance Center\, 2358 Fairlane Drive\, Montgomery\, AL\, 36116\, United States
CATEGORIES:Breastfeeding
ATTACH;FMTTYPE=image/png:https://www.thewellnesscoalition.org/wp-content/uploads/2024/05/Baby-Cafe-FGC.png
END:VEVENT
BEGIN:VEVENT
DTSTART;TZID=America/Chicago:20240815T173000
DTEND;TZID=America/Chicago:20240815T193000
DTSTAMP:20260424T122800
CREATED:20240515T205704Z
LAST-MODIFIED:20240515T205704Z
UID:10000214-1723743000-1723750200@www.thewellnesscoalition.org
SUMMARY:Baby Café at the Family Service Center
DESCRIPTION:Baby Cafés are a free place for every parent who needs support with breastfeeding services! No appointment or insurance necessary.
URL:https://www.thewellnesscoalition.org/event/baby-cafe-at-the-family-service-center-3/2024-08-15/
LOCATION:Family Guidance Center\, 2358 Fairlane Drive\, Montgomery\, AL\, 36116\, United States
CATEGORIES:Breastfeeding
ATTACH;FMTTYPE=image/png:https://www.thewellnesscoalition.org/wp-content/uploads/2024/05/Baby-Cafe-FGC.png
END:VEVENT
BEGIN:VEVENT
DTSTART;TZID=America/Chicago:20240814T120000
DTEND;TZID=America/Chicago:20240814T140000
DTSTAMP:20260424T122800
CREATED:20240515T205244Z
LAST-MODIFIED:20240515T205356Z
UID:10000135-1723636800-1723644000@www.thewellnesscoalition.org
SUMMARY:Baby Café at the Family Service Center
DESCRIPTION:Baby Cafés are a free place for every parent who needs support with breastfeeding services! No appointment or insurance necessary.
URL:https://www.thewellnesscoalition.org/event/baby-cafe-at-the-family-service-center/2024-08-14/
LOCATION:Family Guidance Center\, 2358 Fairlane Drive\, Montgomery\, AL\, 36116\, United States
CATEGORIES:Breastfeeding
ATTACH;FMTTYPE=image/png:https://www.thewellnesscoalition.org/wp-content/uploads/2024/05/Baby-Cafe-FGC.png
END:VEVENT
BEGIN:VEVENT
DTSTART;TZID=America/Chicago:20240813T173000
DTEND;TZID=America/Chicago:20240813T193000
DTSTAMP:20260424T122800
CREATED:20240515T205553Z
LAST-MODIFIED:20240515T205553Z
UID:10000174-1723570200-1723577400@www.thewellnesscoalition.org
SUMMARY:Baby Café at the Family Service Center
DESCRIPTION:Baby Cafés are a free place for every parent who needs support with breastfeeding services! No appointment or insurance necessary.
URL:https://www.thewellnesscoalition.org/event/baby-cafe-at-the-family-service-center-2/2024-08-13/
LOCATION:Family Guidance Center\, 2358 Fairlane Drive\, Montgomery\, AL\, 36116\, United States
CATEGORIES:Breastfeeding
ATTACH;FMTTYPE=image/png:https://www.thewellnesscoalition.org/wp-content/uploads/2024/05/Baby-Cafe-FGC.png
END:VEVENT
BEGIN:VEVENT
DTSTART;TZID=America/Chicago:20240809T120000
DTEND;TZID=America/Chicago:20240809T140000
DTSTAMP:20260424T122800
CREATED:20240515T205803Z
LAST-MODIFIED:20240515T205803Z
UID:10000253-1723204800-1723212000@www.thewellnesscoalition.org
SUMMARY:Baby Café at the Family Service Center
DESCRIPTION:Baby Cafés are a free place for every parent who needs support with breastfeeding services! No appointment or insurance necessary.
URL:https://www.thewellnesscoalition.org/event/baby-cafe-at-the-family-service-center-4/2024-08-09/
LOCATION:Family Guidance Center\, 2358 Fairlane Drive\, Montgomery\, AL\, 36116\, United States
CATEGORIES:Breastfeeding
ATTACH;FMTTYPE=image/png:https://www.thewellnesscoalition.org/wp-content/uploads/2024/05/Baby-Cafe-FGC.png
END:VEVENT
BEGIN:VEVENT
DTSTART;TZID=America/Chicago:20240808T173000
DTEND;TZID=America/Chicago:20240808T193000
DTSTAMP:20260424T122800
CREATED:20240515T205704Z
LAST-MODIFIED:20240515T205704Z
UID:10000213-1723138200-1723145400@www.thewellnesscoalition.org
SUMMARY:Baby Café at the Family Service Center
DESCRIPTION:Baby Cafés are a free place for every parent who needs support with breastfeeding services! No appointment or insurance necessary.
URL:https://www.thewellnesscoalition.org/event/baby-cafe-at-the-family-service-center-3/2024-08-08/
LOCATION:Family Guidance Center\, 2358 Fairlane Drive\, Montgomery\, AL\, 36116\, United States
CATEGORIES:Breastfeeding
ATTACH;FMTTYPE=image/png:https://www.thewellnesscoalition.org/wp-content/uploads/2024/05/Baby-Cafe-FGC.png
END:VEVENT
BEGIN:VEVENT
DTSTART;TZID=America/Chicago:20240807T120000
DTEND;TZID=America/Chicago:20240807T140000
DTSTAMP:20260424T122800
CREATED:20240515T205244Z
LAST-MODIFIED:20240515T205356Z
UID:10000134-1723032000-1723039200@www.thewellnesscoalition.org
SUMMARY:Baby Café at the Family Service Center
DESCRIPTION:Baby Cafés are a free place for every parent who needs support with breastfeeding services! No appointment or insurance necessary.
URL:https://www.thewellnesscoalition.org/event/baby-cafe-at-the-family-service-center/2024-08-07/
LOCATION:Family Guidance Center\, 2358 Fairlane Drive\, Montgomery\, AL\, 36116\, United States
CATEGORIES:Breastfeeding
ATTACH;FMTTYPE=image/png:https://www.thewellnesscoalition.org/wp-content/uploads/2024/05/Baby-Cafe-FGC.png
END:VEVENT
BEGIN:VEVENT
DTSTART;TZID=America/Chicago:20240806T173000
DTEND;TZID=America/Chicago:20240806T193000
DTSTAMP:20260424T122800
CREATED:20240515T205553Z
LAST-MODIFIED:20240515T205553Z
UID:10000173-1722965400-1722972600@www.thewellnesscoalition.org
SUMMARY:Baby Café at the Family Service Center
DESCRIPTION:Baby Cafés are a free place for every parent who needs support with breastfeeding services! No appointment or insurance necessary.
URL:https://www.thewellnesscoalition.org/event/baby-cafe-at-the-family-service-center-2/2024-08-06/
LOCATION:Family Guidance Center\, 2358 Fairlane Drive\, Montgomery\, AL\, 36116\, United States
CATEGORIES:Breastfeeding
ATTACH;FMTTYPE=image/png:https://www.thewellnesscoalition.org/wp-content/uploads/2024/05/Baby-Cafe-FGC.png
END:VEVENT
BEGIN:VEVENT
DTSTART;TZID=America/Chicago:20240802T120000
DTEND;TZID=America/Chicago:20240802T140000
DTSTAMP:20260424T122800
CREATED:20240515T205803Z
LAST-MODIFIED:20240515T205803Z
UID:10000252-1722600000-1722607200@www.thewellnesscoalition.org
SUMMARY:Baby Café at the Family Service Center
DESCRIPTION:Baby Cafés are a free place for every parent who needs support with breastfeeding services! No appointment or insurance necessary.
URL:https://www.thewellnesscoalition.org/event/baby-cafe-at-the-family-service-center-4/2024-08-02/
LOCATION:Family Guidance Center\, 2358 Fairlane Drive\, Montgomery\, AL\, 36116\, United States
CATEGORIES:Breastfeeding
ATTACH;FMTTYPE=image/png:https://www.thewellnesscoalition.org/wp-content/uploads/2024/05/Baby-Cafe-FGC.png
END:VEVENT
BEGIN:VEVENT
DTSTART;TZID=America/Chicago:20240801T173000
DTEND;TZID=America/Chicago:20240801T193000
DTSTAMP:20260424T122800
CREATED:20240515T205704Z
LAST-MODIFIED:20240515T205704Z
UID:10000212-1722533400-1722540600@www.thewellnesscoalition.org
SUMMARY:Baby Café at the Family Service Center
DESCRIPTION:Baby Cafés are a free place for every parent who needs support with breastfeeding services! No appointment or insurance necessary.
URL:https://www.thewellnesscoalition.org/event/baby-cafe-at-the-family-service-center-3/2024-08-01/
LOCATION:Family Guidance Center\, 2358 Fairlane Drive\, Montgomery\, AL\, 36116\, United States
CATEGORIES:Breastfeeding
ATTACH;FMTTYPE=image/png:https://www.thewellnesscoalition.org/wp-content/uploads/2024/05/Baby-Cafe-FGC.png
END:VEVENT
BEGIN:VEVENT
DTSTART;TZID=America/Chicago:20240731T120000
DTEND;TZID=America/Chicago:20240731T140000
DTSTAMP:20260424T122800
CREATED:20240515T205244Z
LAST-MODIFIED:20240515T205356Z
UID:10000133-1722427200-1722434400@www.thewellnesscoalition.org
SUMMARY:Baby Café at the Family Service Center
DESCRIPTION:Baby Cafés are a free place for every parent who needs support with breastfeeding services! No appointment or insurance necessary.
URL:https://www.thewellnesscoalition.org/event/baby-cafe-at-the-family-service-center/2024-07-31/
LOCATION:Family Guidance Center\, 2358 Fairlane Drive\, Montgomery\, AL\, 36116\, United States
CATEGORIES:Breastfeeding
ATTACH;FMTTYPE=image/png:https://www.thewellnesscoalition.org/wp-content/uploads/2024/05/Baby-Cafe-FGC.png
END:VEVENT
BEGIN:VEVENT
DTSTART;TZID=America/Chicago:20240730T173000
DTEND;TZID=America/Chicago:20240730T193000
DTSTAMP:20260424T122800
CREATED:20240515T205553Z
LAST-MODIFIED:20240515T205553Z
UID:10000172-1722360600-1722367800@www.thewellnesscoalition.org
SUMMARY:Baby Café at the Family Service Center
DESCRIPTION:Baby Cafés are a free place for every parent who needs support with breastfeeding services! No appointment or insurance necessary.
URL:https://www.thewellnesscoalition.org/event/baby-cafe-at-the-family-service-center-2/2024-07-30/
LOCATION:Family Guidance Center\, 2358 Fairlane Drive\, Montgomery\, AL\, 36116\, United States
CATEGORIES:Breastfeeding
ATTACH;FMTTYPE=image/png:https://www.thewellnesscoalition.org/wp-content/uploads/2024/05/Baby-Cafe-FGC.png
END:VEVENT
BEGIN:VEVENT
DTSTART;TZID=America/Chicago:20240726T120000
DTEND;TZID=America/Chicago:20240726T140000
DTSTAMP:20260424T122800
CREATED:20240515T205803Z
LAST-MODIFIED:20240515T205803Z
UID:10000251-1721995200-1722002400@www.thewellnesscoalition.org
SUMMARY:Baby Café at the Family Service Center
DESCRIPTION:Baby Cafés are a free place for every parent who needs support with breastfeeding services! No appointment or insurance necessary.
URL:https://www.thewellnesscoalition.org/event/baby-cafe-at-the-family-service-center-4/2024-07-26/
LOCATION:Family Guidance Center\, 2358 Fairlane Drive\, Montgomery\, AL\, 36116\, United States
CATEGORIES:Breastfeeding
ATTACH;FMTTYPE=image/png:https://www.thewellnesscoalition.org/wp-content/uploads/2024/05/Baby-Cafe-FGC.png
END:VEVENT
BEGIN:VEVENT
DTSTART;TZID=America/Chicago:20240725T173000
DTEND;TZID=America/Chicago:20240725T193000
DTSTAMP:20260424T122800
CREATED:20240515T205704Z
LAST-MODIFIED:20240515T205704Z
UID:10000211-1721928600-1721935800@www.thewellnesscoalition.org
SUMMARY:Baby Café at the Family Service Center
DESCRIPTION:Baby Cafés are a free place for every parent who needs support with breastfeeding services! No appointment or insurance necessary.
URL:https://www.thewellnesscoalition.org/event/baby-cafe-at-the-family-service-center-3/2024-07-25/
LOCATION:Family Guidance Center\, 2358 Fairlane Drive\, Montgomery\, AL\, 36116\, United States
CATEGORIES:Breastfeeding
ATTACH;FMTTYPE=image/png:https://www.thewellnesscoalition.org/wp-content/uploads/2024/05/Baby-Cafe-FGC.png
END:VEVENT
BEGIN:VEVENT
DTSTART;TZID=America/Chicago:20240724T120000
DTEND;TZID=America/Chicago:20240724T140000
DTSTAMP:20260424T122800
CREATED:20240515T205244Z
LAST-MODIFIED:20240515T205356Z
UID:10000132-1721822400-1721829600@www.thewellnesscoalition.org
SUMMARY:Baby Café at the Family Service Center
DESCRIPTION:Baby Cafés are a free place for every parent who needs support with breastfeeding services! No appointment or insurance necessary.
URL:https://www.thewellnesscoalition.org/event/baby-cafe-at-the-family-service-center/2024-07-24/
LOCATION:Family Guidance Center\, 2358 Fairlane Drive\, Montgomery\, AL\, 36116\, United States
CATEGORIES:Breastfeeding
ATTACH;FMTTYPE=image/png:https://www.thewellnesscoalition.org/wp-content/uploads/2024/05/Baby-Cafe-FGC.png
END:VEVENT
BEGIN:VEVENT
DTSTART;TZID=America/Chicago:20240724T090000
DTEND;TZID=America/Chicago:20240724T100000
DTSTAMP:20260424T122800
CREATED:20240414T144016Z
LAST-MODIFIED:20240414T144016Z
UID:10000088-1721811600-1721815200@www.thewellnesscoalition.org
SUMMARY:Milk Haven Committee Meeting
DESCRIPTION:Join us to learn how to support and aid breastfeeding in the community. Alabama’s breastfeeding rates are lower than most states\, yet breastfeeding has many benefits for the mother and child.\nRegister at: bit.ly/4415CQ0
URL:https://www.thewellnesscoalition.org/event/milk-haven-committee-meeting/2024-07-24/
LOCATION:https://us06web.zoom.us/meeting/register/tZMuf-ipqjwvEteUMd9yOxNGebJO2oI0wr-G#/registration
CATEGORIES:Breastfeeding
ATTACH;FMTTYPE=image/png:https://www.thewellnesscoalition.org/wp-content/uploads/2024/04/Milk-Haven.png
END:VEVENT
BEGIN:VEVENT
DTSTART;TZID=America/Chicago:20240723T173000
DTEND;TZID=America/Chicago:20240723T193000
DTSTAMP:20260424T122800
CREATED:20240515T205553Z
LAST-MODIFIED:20240515T205553Z
UID:10000171-1721755800-1721763000@www.thewellnesscoalition.org
SUMMARY:Baby Café at the Family Service Center
DESCRIPTION:Baby Cafés are a free place for every parent who needs support with breastfeeding services! No appointment or insurance necessary.
URL:https://www.thewellnesscoalition.org/event/baby-cafe-at-the-family-service-center-2/2024-07-23/
LOCATION:Family Guidance Center\, 2358 Fairlane Drive\, Montgomery\, AL\, 36116\, United States
CATEGORIES:Breastfeeding
ATTACH;FMTTYPE=image/png:https://www.thewellnesscoalition.org/wp-content/uploads/2024/05/Baby-Cafe-FGC.png
END:VEVENT
BEGIN:VEVENT
DTSTART;TZID=America/Chicago:20240719T120000
DTEND;TZID=America/Chicago:20240719T140000
DTSTAMP:20260424T122800
CREATED:20240515T205803Z
LAST-MODIFIED:20240515T205803Z
UID:10000250-1721390400-1721397600@www.thewellnesscoalition.org
SUMMARY:Baby Café at the Family Service Center
DESCRIPTION:Baby Cafés are a free place for every parent who needs support with breastfeeding services! No appointment or insurance necessary.
URL:https://www.thewellnesscoalition.org/event/baby-cafe-at-the-family-service-center-4/2024-07-19/
LOCATION:Family Guidance Center\, 2358 Fairlane Drive\, Montgomery\, AL\, 36116\, United States
CATEGORIES:Breastfeeding
ATTACH;FMTTYPE=image/png:https://www.thewellnesscoalition.org/wp-content/uploads/2024/05/Baby-Cafe-FGC.png
END:VEVENT
BEGIN:VEVENT
DTSTART;TZID=America/Chicago:20240718T173000
DTEND;TZID=America/Chicago:20240718T193000
DTSTAMP:20260424T122800
CREATED:20240515T205704Z
LAST-MODIFIED:20240515T205704Z
UID:10000210-1721323800-1721331000@www.thewellnesscoalition.org
SUMMARY:Baby Café at the Family Service Center
DESCRIPTION:Baby Cafés are a free place for every parent who needs support with breastfeeding services! No appointment or insurance necessary.
URL:https://www.thewellnesscoalition.org/event/baby-cafe-at-the-family-service-center-3/2024-07-18/
LOCATION:Family Guidance Center\, 2358 Fairlane Drive\, Montgomery\, AL\, 36116\, United States
CATEGORIES:Breastfeeding
ATTACH;FMTTYPE=image/png:https://www.thewellnesscoalition.org/wp-content/uploads/2024/05/Baby-Cafe-FGC.png
END:VEVENT
BEGIN:VEVENT
DTSTART;TZID=America/Chicago:20240717T120000
DTEND;TZID=America/Chicago:20240717T140000
DTSTAMP:20260424T122800
CREATED:20240515T205244Z
LAST-MODIFIED:20240515T205356Z
UID:10000131-1721217600-1721224800@www.thewellnesscoalition.org
SUMMARY:Baby Café at the Family Service Center
DESCRIPTION:Baby Cafés are a free place for every parent who needs support with breastfeeding services! No appointment or insurance necessary.
URL:https://www.thewellnesscoalition.org/event/baby-cafe-at-the-family-service-center/2024-07-17/
LOCATION:Family Guidance Center\, 2358 Fairlane Drive\, Montgomery\, AL\, 36116\, United States
CATEGORIES:Breastfeeding
ATTACH;FMTTYPE=image/png:https://www.thewellnesscoalition.org/wp-content/uploads/2024/05/Baby-Cafe-FGC.png
END:VEVENT
BEGIN:VEVENT
DTSTART;TZID=America/Chicago:20240716T173000
DTEND;TZID=America/Chicago:20240716T193000
DTSTAMP:20260424T122800
CREATED:20240515T205553Z
LAST-MODIFIED:20240515T205553Z
UID:10000170-1721151000-1721158200@www.thewellnesscoalition.org
SUMMARY:Baby Café at the Family Service Center
DESCRIPTION:Baby Cafés are a free place for every parent who needs support with breastfeeding services! No appointment or insurance necessary.
URL:https://www.thewellnesscoalition.org/event/baby-cafe-at-the-family-service-center-2/2024-07-16/
LOCATION:Family Guidance Center\, 2358 Fairlane Drive\, Montgomery\, AL\, 36116\, United States
CATEGORIES:Breastfeeding
ATTACH;FMTTYPE=image/png:https://www.thewellnesscoalition.org/wp-content/uploads/2024/05/Baby-Cafe-FGC.png
END:VEVENT
BEGIN:VEVENT
DTSTART;TZID=America/Chicago:20240713T130000
DTEND;TZID=America/Chicago:20240713T150000
DTSTAMP:20260424T122800
CREATED:20240520T203620Z
LAST-MODIFIED:20240530T145511Z
UID:10000299-1720875600-1720882800@www.thewellnesscoalition.org
SUMMARY:Baby Café at Montgomery Hispanic SDA Church
DESCRIPTION:Baby Cafés are a free place for every parent who needs support with breastfeeding services! No appointment or insurance necessary.
URL:https://www.thewellnesscoalition.org/event/baby-cafe-at-montgomery-hispanic-sda-church-3/2024-07-13/
LOCATION:Montgomery Hispanic SDA Church\, 2515 Woodley Rd.\, Montgomery\, AL\, 36111\, United States
CATEGORIES:Breastfeeding
ATTACH;FMTTYPE=image/png:https://www.thewellnesscoalition.org/wp-content/uploads/2024/05/Hispanic-SDA-Church.png
END:VEVENT
BEGIN:VEVENT
DTSTART;TZID=America/Chicago:20240712T120000
DTEND;TZID=America/Chicago:20240712T140000
DTSTAMP:20260424T122800
CREATED:20240515T205803Z
LAST-MODIFIED:20240515T205803Z
UID:10000249-1720785600-1720792800@www.thewellnesscoalition.org
SUMMARY:Baby Café at the Family Service Center
DESCRIPTION:Baby Cafés are a free place for every parent who needs support with breastfeeding services! No appointment or insurance necessary.
URL:https://www.thewellnesscoalition.org/event/baby-cafe-at-the-family-service-center-4/2024-07-12/
LOCATION:Family Guidance Center\, 2358 Fairlane Drive\, Montgomery\, AL\, 36116\, United States
CATEGORIES:Breastfeeding
ATTACH;FMTTYPE=image/png:https://www.thewellnesscoalition.org/wp-content/uploads/2024/05/Baby-Cafe-FGC.png
END:VEVENT
BEGIN:VEVENT
DTSTART;TZID=America/Chicago:20240711T173000
DTEND;TZID=America/Chicago:20240711T193000
DTSTAMP:20260424T122800
CREATED:20240515T205704Z
LAST-MODIFIED:20240515T205704Z
UID:10000209-1720719000-1720726200@www.thewellnesscoalition.org
SUMMARY:Baby Café at the Family Service Center
DESCRIPTION:Baby Cafés are a free place for every parent who needs support with breastfeeding services! No appointment or insurance necessary.
URL:https://www.thewellnesscoalition.org/event/baby-cafe-at-the-family-service-center-3/2024-07-11/
LOCATION:Family Guidance Center\, 2358 Fairlane Drive\, Montgomery\, AL\, 36116\, United States
CATEGORIES:Breastfeeding
ATTACH;FMTTYPE=image/png:https://www.thewellnesscoalition.org/wp-content/uploads/2024/05/Baby-Cafe-FGC.png
END:VEVENT
BEGIN:VEVENT
DTSTART;TZID=America/Chicago:20240711T130000
DTEND;TZID=America/Chicago:20240711T133000
DTSTAMP:20260424T122800
CREATED:20240708T172058Z
LAST-MODIFIED:20240708T172608Z
UID:10000306-1720702800-1720704600@www.thewellnesscoalition.org
SUMMARY:Breastfeeding Briefing: Common Breastfeeding Challenges
DESCRIPTION:Join us for a Facebook Live to learn about common breastfeeding challenges including plugged ducts\, engorgement\, mastitis\,  and at-home treatment options. Tune into The Wellness Coalition’s Facebook page at 1pm CST on Thursday\, July 11 to watch!
URL:https://www.thewellnesscoalition.org/event/breastfeeding-briefing-common-breastfeeding-challenges/
LOCATION:https://www.thewellnesscoalition.org/event/breastfeeding-briefing-common-breastfeeding-challenges/
CATEGORIES:Breastfeeding
ATTACH;FMTTYPE=image/jpeg:https://www.thewellnesscoalition.org/wp-content/uploads/2024/07/Breastfeeding-Briefing-07-24-1.jpg
END:VEVENT
BEGIN:VEVENT
DTSTART;TZID=America/Chicago:20240710T120000
DTEND;TZID=America/Chicago:20240710T140000
DTSTAMP:20260424T122800
CREATED:20240515T205244Z
LAST-MODIFIED:20240515T205356Z
UID:10000130-1720612800-1720620000@www.thewellnesscoalition.org
SUMMARY:Baby Café at the Family Service Center
DESCRIPTION:Baby Cafés are a free place for every parent who needs support with breastfeeding services! No appointment or insurance necessary.
URL:https://www.thewellnesscoalition.org/event/baby-cafe-at-the-family-service-center/2024-07-10/
LOCATION:Family Guidance Center\, 2358 Fairlane Drive\, Montgomery\, AL\, 36116\, United States
CATEGORIES:Breastfeeding
ATTACH;FMTTYPE=image/png:https://www.thewellnesscoalition.org/wp-content/uploads/2024/05/Baby-Cafe-FGC.png
END:VEVENT
BEGIN:VEVENT
DTSTART;TZID=America/Chicago:20240709T173000
DTEND;TZID=America/Chicago:20240709T193000
DTSTAMP:20260424T122800
CREATED:20240515T205553Z
LAST-MODIFIED:20240515T205553Z
UID:10000169-1720546200-1720553400@www.thewellnesscoalition.org
SUMMARY:Baby Café at the Family Service Center
DESCRIPTION:Baby Cafés are a free place for every parent who needs support with breastfeeding services! No appointment or insurance necessary.
URL:https://www.thewellnesscoalition.org/event/baby-cafe-at-the-family-service-center-2/2024-07-09/
LOCATION:Family Guidance Center\, 2358 Fairlane Drive\, Montgomery\, AL\, 36116\, United States
CATEGORIES:Breastfeeding
ATTACH;FMTTYPE=image/png:https://www.thewellnesscoalition.org/wp-content/uploads/2024/05/Baby-Cafe-FGC.png
END:VEVENT
BEGIN:VEVENT
DTSTART;TZID=America/Chicago:20240705T120000
DTEND;TZID=America/Chicago:20240705T140000
DTSTAMP:20260424T122800
CREATED:20240515T205803Z
LAST-MODIFIED:20240515T205803Z
UID:10000248-1720180800-1720188000@www.thewellnesscoalition.org
SUMMARY:Baby Café at the Family Service Center
DESCRIPTION:Baby Cafés are a free place for every parent who needs support with breastfeeding services! No appointment or insurance necessary.
URL:https://www.thewellnesscoalition.org/event/baby-cafe-at-the-family-service-center-4/2024-07-05/
LOCATION:Family Guidance Center\, 2358 Fairlane Drive\, Montgomery\, AL\, 36116\, United States
CATEGORIES:Breastfeeding
ATTACH;FMTTYPE=image/png:https://www.thewellnesscoalition.org/wp-content/uploads/2024/05/Baby-Cafe-FGC.png
END:VEVENT
BEGIN:VEVENT
DTSTART;TZID=America/Chicago:20240704T173000
DTEND;TZID=America/Chicago:20240704T193000
DTSTAMP:20260424T122800
CREATED:20240515T205704Z
LAST-MODIFIED:20240515T205704Z
UID:10000208-1720114200-1720121400@www.thewellnesscoalition.org
SUMMARY:Baby Café at the Family Service Center
DESCRIPTION:Baby Cafés are a free place for every parent who needs support with breastfeeding services! No appointment or insurance necessary.
URL:https://www.thewellnesscoalition.org/event/baby-cafe-at-the-family-service-center-3/2024-07-04/
LOCATION:Family Guidance Center\, 2358 Fairlane Drive\, Montgomery\, AL\, 36116\, United States
CATEGORIES:Breastfeeding
ATTACH;FMTTYPE=image/png:https://www.thewellnesscoalition.org/wp-content/uploads/2024/05/Baby-Cafe-FGC.png
END:VEVENT
END:VCALENDAR